Workbook

Sheet NOTICE
B1: GRANT APPLICATION
B2: EUROPEAN MARITIME, FISHERIES AND AQUACULTURE FUND (EMFAF)
B3: Version 0 – September 2024
C4: This file brings together the technical annexes to the EMFAF application form for SO 1.6 – TA 1 – Operations to protect and restore marine and coastal ecosystems, including by limiting the impacts of activities, in application of European directives.
C6: Annex 1 | D6: Forecast expenditure
C7: Annex 1bis | D7: Forecast expenditure (supplementary form)
C9: This document is protected. Only the cells highlighted in yellow can be completed:
C11: To make completion easier, automatic formulas are included in blue cells:
D15: Example: | E15: Quantity | F15: Unit | G15: Rate value | H15: Amount claimed
H16: =E16*G16
H17: =E17*G17
H18: =E18*G18
H19: =SUM(H16:H18)
C20: In this table, you can fill in the fields “quantity”, “unit” and “rate value”.
C21: The amount of expenditure claimed is calculated automatically (quantity multiplied by the corresponding rate value).
C23: In Annex 1, you can add rows as needed by clicking the buttons to the left of the tables.
C24: To use this option, you must enable macros in the document.
C26: You can duplicate the Annex 1 worksheet for as many regions concerned by your operation as necessary.
C27: To do so, right-click the tab, select “Move or Copy”, tick “Create a copy”, then click “OK”.
C28: Then enter the resulting amounts in the table in Annex 1bis.

Sheet PORTEUR
B1: GRANT APPLICATION
B2: EUROPEAN MARITIME, FISHERIES AND AQUACULTURE FUND (EMFAF)
B3: SO 1.6 – TA 1 – Operations to protect and restore marine and coastal ecosystems, including by limiting the impacts of activities, in application of European directives
B4: Version – September 2024
B5: ANNEX 1: Forecast expenditure for the operation
B6: This annex must be completed by each partner. The combined data must be entered in Annex 1bis.
B8: Applicant details
B9: Surname / First name or company name:
B11: Operation details
B12: Operation title (format [SO 1.6 TA1 – lead applicant name])
B14: Tangible and intangible investment expenditure
B16: Expenditure item | C16: Description of expenditure | D16: Supplier name | E16: Supporting document reference | F16: Amount claimed excluding VAT | G16: Amount claimed excluding VAT | H16: VAT amount claimed (non-recoverable VAT)
B17: Services (subcontracting costs) or investment expenditure (including the purchase of new equipment and goods, costs related to vessels/aircraft, purchase of biological material, European conventions and agreements, etc.) | C17: Specify the nature of the expenditure | D17: Name of the company or organisation issuing the quotation | E17: Information identifying the attached supporting document (e.g. quotation number) | F17: If you fully recover VAT on this expenditure. | G17: If you do not recover VAT on this expenditure, or recover it only partially
F58: =SUM(F18:F57) | G58: =SUM(G18:G57) | H58: =SUM(H18:H57)
B59: Direct staff costs using unit costs – excluding sea-going allowances
B61: Description of the activity | C61: Name of the person involved | D61: Employee category | E61: Unit cost | F61: Working time allocated to the operation | G61: Amount claimed
B62: Nature of the work to be carried out (e.g. shore-based work, work at sea aboard a fishing vessel, work at sea aboard a research vessel) | D62: For employees of private-sector and public-sector companies, specify the occupational category | E62: Flat rate for shore-based work, aboard a scientific vessel, or aboard a professional fishing vessel | F62: Working time planned for the activity (number of hours)
G63: =E63*F63
G64: =E64*F64
G65: =E65*F65
G66: =E66*F66
G67: =E67*F67
G68: =E68*F68
G69: =E69*F69
G70: =E70*F70
G71: =E71*F71
G72: =E72*F72
G73: =E73*F73
G74: =E74*F74
... G102: =E102*F102
G103: =SUM(G63:G102)
B104: Indirect costs related to the operation (costs calculated using a prorated flat rate) | F104: TRUE
C106: Would you like your indirect costs to be funded at 15% of the direct staff costs related to the operation? | E106: YES | F106: FALSE
C107: Total amount claimed for indirect costs (15% of staff costs) | E107: =IF(F106=TRUE,15%*G103,(IF(F106=FALSE,"0,00 €")))
B109: Travel expenses – excluding air tickets (costs calculated using a flat rate)
C110: Would you like your travel expenses to be funded at 6.3% of the direct staff costs related to the operation? | E110: YES | F110: FALSE
C111: Total amount claimed for travel expenses – excluding air tickets (6.3% of staff costs) | E111: =G103*0.063
B113: OR/UP and international travel expenses
B114: Air tickets for travel between mainland France and Corsica, the French overseas territories or international destinations
B115: Description of expenditure | C115: Supporting document reference | D115: Amount claimed excluding VAT | E115: Amount claimed excluding VAT | F115: VAT amount claimed (non-recoverable VAT)
...

Sheet PARTENAIRE 1
B1: GRANT APPLICATION
B2: EUROPEAN MARITIME, FISHERIES AND AQUACULTURE FUND (EMFAF)
B3: SO 1.6 – TA 1 – Operations to protect and restore marine and coastal ecosystems, including by limiting the impacts of activities, in application of European directives
B4: Version – September 2024
B5: ANNEX 1: Forecast expenditure for the operation
B6: This annex must be completed by each partner. The combined data must be entered in Annex 1bis.
B8: Applicant details
B9: Surname / First name or company name:
B11: Operation details
B12: Operation title (format [SO 1.6 TA1 – lead applicant name])
B14: Tangible and intangible investment expenditure
B16: Expenditure item | C16: Description of expenditure | D16: Supplier name | E16: Supporting document reference | F16: Amount claimed excluding VAT | G16: Amount claimed excluding VAT | H16: VAT amount claimed (non-recoverable VAT)
B17: Services (subcontracting costs) or investment expenditure (including the purchase of new equipment and goods, costs related to vessels/aircraft, purchase of biological material, European conventions and agreements, etc.) | C17: Specify the nature of the expenditure | D17: Name of the company or organisation issuing the quotation | E17: Information identifying the attached supporting document (e.g. quotation number) | F17: If you fully recover VAT on this expenditure. | G17: If you do not recover VAT on this expenditure, or recover it only partially
F58: =SUM(F18:F57) | G58: =SUM(G18:G57) | H58: =SUM(H18:H57)
B59: Direct staff costs using unit costs – excluding sea-going allowances
B61: Description of the activity | C61: Name of the person involved | D61: Employee category | E61: Unit cost | F61: Working time allocated to the operation | G61: Amount claimed
B62: Nature of the work to be carried out (e.g. shore-based work, work at sea aboard a fishing vessel, work at sea aboard a research vessel) | D62: For employees of private-sector and public-sector companies, specify the occupational category | E62: Flat rate for shore-based work, aboard a scientific vessel, or aboard a professional fishing vessel | F62: Working time planned for the activity (number of hours)
G63: =E63*F63
G64: =E64*F64
G65: =E65*F65
G66: =E66*F66
G67: =E67*F67
G68: =E68*F68
G69: =E69*F69
G70: =E70*F70
G71: =E71*F71
G72: =E72*F72
G73: =E73*F73
G74: =E74*F74
... G102: =E102*F102
G103: =SUM(G63:G102)
B104: Indirect costs related to the operation (costs calculated using a prorated flat rate) | F104: TRUE
C106: Would you like your indirect costs to be funded at 15% of the direct staff costs related to the operation? | E106: YES | F106: FALSE
C107: Total amount claimed for indirect costs (15% of staff costs) | E107: =IF(F106=TRUE,15%*G103,(IF(F106=FALSE,"0,00 €")))
B109: Travel expenses – excluding air tickets (costs calculated using a flat rate)
C110: Would you like your travel expenses to be funded at 6.3% of the direct staff costs related to the operation? | E110: YES | F110: FALSE
C111: Total amount claimed for travel expenses – excluding air tickets (6.3% of staff costs) | E111: =G103*0.063
B113: OR/UP and international travel expenses
B114: Air tickets for travel between mainland France and Corsica, the French overseas territories or international destinations
B115: Description of expenditure | C115: Supporting document reference | D115: Amount claimed excluding VAT | E115: Amount claimed excluding VAT | F115: VAT amount claimed (non-recoverable VAT)
...

Sheet PARTENAIRE 2
B1: GRANT APPLICATION
B2: EUROPEAN MARITIME, FISHERIES AND AQUACULTURE FUND (EMFAF)
B3: SO 1.6 – TA 1 – Operations to protect and restore marine and coastal ecosystems, including by limiting the impacts of activities, in application of European directives
B4: Version – September 2024
B5: ANNEX 1: Forecast expenditure for the operation
B6: This annex must be completed by each partner. The combined data must be entered in Annex 1bis.
B8: Applicant details
B9: Surname / First name or company name:
B11: Operation details
B12: Operation title (format [SO 1.6 TA1 – lead applicant name])
B14: Tangible and intangible investment expenditure
B16: Expenditure item | C16: Description of expenditure | D16: Supplier name | E16: Supporting document reference | F16: Amount claimed excluding VAT | G16: Amount claimed excluding VAT | H16: VAT amount claimed (non-recoverable VAT)
B17: Services (subcontracting costs) or investment expenditure (including the purchase of new equipment and goods, costs related to vessels/aircraft, purchase of biological material, European conventions and agreements, etc.) | C17: Specify the nature of the expenditure | D17: Name of the company or organisation issuing the quotation | E17: Information identifying the attached supporting document (e.g. quotation number) | F17: If you fully recover VAT on this expenditure. | G17: If you do not recover VAT on this expenditure, or recover it only partially
F58: =SUM(F18:F57) | G58: =SUM(G18:G57) | H58: =SUM(H18:H57)
B59: Direct staff costs using unit costs – excluding sea-going allowances
B61: Description of the activity | C61: Name of the person involved | D61: Employee category | E61: Unit cost | F61: Working time allocated to the operation | G61: Amount claimed
B62: Nature of the work to be carried out (e.g. shore-based work, work at sea aboard a fishing vessel, work at sea aboard a research vessel) | D62: For employees of private-sector and public-sector companies, specify the occupational category | E62: Flat rate for shore-based work, aboard a scientific vessel, or aboard a professional fishing vessel | F62: Working time planned for the activity (number of hours)
G63: =E63*F63
G64: =E64*F64
G65: =E65*F65
G66: =E66*F66
G67: =E67*F67
G68: =E68*F68
G69: =E69*F69
G70: =E70*F70
G71: =E71*F71
G72: =E72*F72
G73: =E73*F73
G74: =E74*F74
... G102: =E102*F102
G103: =SUM(G63:G102)
B104: Indirect costs related to the operation (costs calculated using a prorated flat rate) | F104: TRUE
C106: Would you like your indirect costs to be funded at 15% of the direct staff costs related to the operation? | E106: YES | F106: FALSE
C107: Total amount claimed for indirect costs (15% of staff costs) | E107: =IF(F106=TRUE,15%*G103,(IF(F106=FALSE,"0,00 €")))
B109: Travel expenses – excluding air tickets (costs calculated using a flat rate)
C110: Would you like your travel expenses to be funded at 6.3% of the direct staff costs related to the operation? | E110: YES | F110: FALSE
C111: Total amount claimed for travel expenses – excluding air tickets (6.3% of staff costs) | E111: =G103*0.063
B113: OR/UP and international travel expenses
B114: Air tickets for travel between mainland France and Corsica, the French overseas territories or international destinations
B115: Description of expenditure | C115: Supporting document reference | D115: Amount claimed excluding VAT | E115: Amount claimed excluding VAT | F115: VAT amount claimed (non-recoverable VAT)
...

Sheet PARTENAIRE 3
B1: GRANT APPLICATION
B2: EUROPEAN MARITIME, FISHERIES AND AQUACULTURE FUND (EMFAF)
B3: SO 1.6 – TA 1 – Operations to protect and restore marine and coastal ecosystems, including by limiting the impacts of activities, in application of European directives
B4: Version – September 2024
B5: ANNEX 1: Forecast expenditure for the operation
B6: This annex must be completed by each partner. The combined data must be entered in Annex 1bis.
B8: Applicant details
B9: Surname / First name or company name:
B11: Operation details
B12: Operation title (format [SO 1.6 TA1 – lead applicant name])
B14: Tangible and intangible investment expenditure
B16: Expenditure item | C16: Description of expenditure | D16: Supplier name | E16: Supporting document reference | F16: Amount claimed excluding VAT | G16: Amount claimed excluding VAT | H16: VAT amount claimed (non-recoverable VAT)
B17: Services (subcontracting costs) or investment expenditure (including the purchase of new equipment and goods, costs related to vessels/aircraft, purchase of biological material, European conventions and agreements, etc.) | C17: Specify the nature of the expenditure | D17: Name of the company or organisation issuing the quotation | E17: Information identifying the attached supporting document (e.g. quotation number) | F17: If you fully recover VAT on this expenditure. | G17: If you do not recover VAT on this expenditure, or recover it only partially
F58: =SUM(F18:F57) | G58: =SUM(G18:G57) | H58: =SUM(H18:H57)
B59: Direct staff costs using unit costs – excluding sea-going allowances
B61: Description of the activity | C61: Name of the person involved | D61: Employee category | E61: Unit cost | F61: Working time allocated to the operation | G61: Amount claimed
B62: Nature of the work to be carried out (e.g. shore-based work, work at sea aboard a fishing vessel, work at sea aboard a research vessel) | D62: For employees of private-sector and public-sector companies, specify the occupational category | E62: Flat rate for shore-based work, aboard a scientific vessel, or aboard a professional fishing vessel | F62: Working time planned for the activity (number of hours)
G63: =E63*F63
G64: =E64*F64
G65: =E65*F65
G66: =E66*F66
G67: =E67*F67
G68: =E68*F68
G69: =E69*F69
G70: =E70*F70
G71: =E71*F71
G72: =E72*F72
G73: =E73*F73
G74: =E74*F74
... G102: =E102*F102
G103: =SUM(G63:G102)
B104: Indirect costs related to the operation (costs calculated using a prorated flat rate) | F104: TRUE
C106: Would you like your indirect costs to be funded at 15% of the direct staff costs related to the operation? | E106: YES | F106: FALSE
C107: Total amount claimed for indirect costs (15% of staff costs) | E107: =IF(F106=TRUE,15%*G103,(IF(F106=FALSE,"0,00 €")))
B109: Travel expenses – excluding air tickets (costs calculated using a flat rate)
C110: Would you like your travel expenses to be funded at 6.3% of the direct staff costs related to the operation? | E110: YES | F110: FALSE
C111: Total amount claimed for travel expenses – excluding air tickets (6.3% of staff costs) | E111: =G103*0.063
B113: OR/UP and international travel expenses
B114: Air tickets for travel between mainland France and Corsica, the French overseas territories or international destinations
B115: Description of expenditure | C115: Supporting document reference | D115: Amount claimed excluding VAT | E115: Amount claimed excluding VAT | F115: VAT amount claimed (non-recoverable VAT)
...

Sheet PARTENAIRE 4
B1: GRANT APPLICATION
B2: EUROPEAN MARITIME, FISHERIES AND AQUACULTURE FUND (EMFAF)
B3: SO 1.6 – TA 1 – Operations to protect and restore marine and coastal ecosystems, including by limiting the impacts of activities, in application of European directives
B4: Version – September 2024
B5: ANNEX 1: Forecast expenditure for the operation
B6: This annex must be completed by each partner. The combined data must be entered in Annex 1bis.
B8: Applicant details
B9: Surname / First name or company name:
B11: Operation details
B12: Operation title (format [SO 1.6 TA1 – lead applicant name])
B14: Tangible and intangible investment expenditure
B16: Expenditure item | C16: Description of expenditure | D16: Supplier name | E16: Supporting document reference | F16: Amount claimed excluding VAT | G16: Amount claimed excluding VAT | H16: VAT amount claimed (non-recoverable VAT)
B17: Services (subcontracting costs) or investment expenditure (including the purchase of new equipment and goods, costs related to vessels/aircraft, purchase of biological material, European conventions and agreements, etc.) | C17: Specify the nature of the expenditure | D17: Name of the company or organisation issuing the quotation | E17: Information identifying the attached supporting document (e.g. quotation number) | F17: If you fully recover VAT on this expenditure. | G17: If you do not recover VAT on this expenditure, or recover it only partially
F58: =SUM(F18:F57) | G58: =SUM(G18:G57) | H58: =SUM(H18:H57)
B59: Direct staff costs using unit costs – excluding sea-going allowances
B61: Description of the activity | C61: Name of the person involved | D61: Employee category | E61: Unit cost | F61: Working time allocated to the operation | G61: Amount claimed
B62: Nature of the work to be carried out (e.g. shore-based work, work at sea aboard a fishing vessel, work at sea aboard a research vessel) | D62: For employees of private-sector and public-sector companies, specify the occupational category | E62: Flat rate for shore-based work, aboard a scientific vessel, or aboard a professional fishing vessel | F62: Working time planned for the activity (number of hours)
G63: =E63*F63
G64: =E64*F64
G65: =E65*F65
G66: =E66*F66
G67: =E67*F67
G68: =E68*F68
G69: =E69*F69
G70: =E70*F70
G71: =E71*F71
G72: =E72*F72
G73: =E73*F73
G74: =E74*F74
... G102: =E102*F102
G103: =SUM(G63:G102)
B104: Indirect costs related to the operation (costs calculated using a prorated flat rate) | F104: TRUE
C106: Would you like your indirect costs to be funded at 15% of the direct staff costs related to the operation? | E106: YES | F106: FALSE
C107: Total amount claimed for indirect costs (15% of staff costs) | E107: =IF(F106=TRUE,15%*G103,(IF(F106=FALSE,"0,00 €")))
B109: Travel expenses – excluding air tickets (costs calculated using a flat rate)
C110: Would you like your travel expenses to be funded at 6.3% of the direct staff costs related to the operation? | E110: YES | F110: FALSE
C111: Total amount claimed for travel expenses – excluding air tickets (6.3% of staff costs) | E111: =G103*0.063
B113: OR/UP and international travel expenses
B114: Air tickets for travel between mainland France and Corsica, the French overseas territories or international destinations
B115: Description of expenditure | C115: Supporting document reference | D115: Amount claimed excluding VAT | E115: Amount claimed excluding VAT | F115: VAT amount claimed (non-recoverable VAT)
...

Sheet PARTENAIRE 5
B1: GRANT APPLICATION
B2: EUROPEAN MARITIME, FISHERIES AND AQUACULTURE FUND (EMFAF)
B3: SO 1.6 – TA 1 – Operations to protect and restore marine and coastal ecosystems, including by limiting the impacts of activities, in application of European directives
B4: Version – September 2024
B5: ANNEX 1: Forecast expenditure for the operation
B6: This annex must be completed by each partner. The combined data must be entered in Annex 1bis.
B8: Applicant details
B9: Surname / First name or company name:
B11: Operation details
B12: Operation title (format [SO 1.6 TA1 – lead applicant name])
B14: Tangible and intangible investment expenditure
B16: Expenditure item | C16: Description of expenditure | D16: Supplier name | E16: Supporting document reference | F16: Amount claimed excluding VAT | G16: Amount claimed excluding VAT | H16: VAT amount claimed (non-recoverable VAT)
B17: Services (subcontracting costs) or investment expenditure (including the purchase of new equipment and goods, costs related to vessels/aircraft, purchase of biological material, European conventions and agreements, etc.) | C17: Specify the nature of the expenditure | D17: Name of the company or organisation issuing the quotation | E17: Information identifying the attached supporting document (e.g. quotation number) | F17: If you fully recover VAT on this expenditure. | G17: If you do not recover VAT on this expenditure, or recover it only partially
F58: =SUM(F18:F57) | G58: =SUM(G18:G57) | H58: =SUM(H18:H57)
B59: Direct staff costs using unit costs – excluding sea-going allowances
B61: Description of the activity | C61: Name of the person involved | D61: Employee category | E61: Unit cost | F61: Working time allocated to the operation | G61: Amount claimed
B62: Nature of the work to be carried out (e.g. shore-based work, work at sea aboard a fishing vessel, work at sea aboard a research vessel) | D62: For employees of private-sector and public-sector companies, specify the occupational category | E62: Flat rate for shore-based work, aboard a scientific vessel, or aboard a professional fishing vessel | F62: Working time planned for the activity (number of hours)
G63: =E63*F63
G64: =E64*F64
G65: =E65*F65
G66: =E66*F66
G67: =E67*F67
G68: =E68*F68
G69: =E69*F69
G70: =E70*F70
G71: =E71*F71
G72: =E72*F72
G73: =E73*F73
G74: =E74*F74
... G102: =E102*F102
G103: =SUM(G63:G102)
B104: Indirect costs related to the operation (costs calculated using a prorated flat rate) | F104: TRUE
C106: Would you like your indirect costs to be funded at 15% of the direct staff costs related to the operation? | E106: YES | F106: FALSE
C107: Total amount claimed for indirect costs (15% of staff costs) | E107: =IF(F106=TRUE,15%*G103,(IF(F106=FALSE,"0,00 €")))
B109: Travel expenses – excluding air tickets (costs calculated using a flat rate)
C110: Would you like your travel expenses to be funded at 6.3% of the direct staff costs related to the operation? | E110: YES | F110: FALSE
C111: Total amount claimed for travel expenses – excluding air tickets (6.3% of staff costs) | E111: =G103*0.063
B113: OR/UP and international travel expenses
B114: Air tickets for travel between mainland France and Corsica, the French overseas territories or international destinations
B115: Description of expenditure | C115: Supporting document reference | D115: Amount claimed excluding VAT | E115: Amount claimed excluding VAT | F115: VAT amount claimed (non-recoverable VAT)
...

Sheet ANNEXE BIS
B1: GRANT APPLICATION
B2: EUROPEAN MARITIME AND FISHERIES FUND (EMFF)
B3: SO 1.6 – TA 1 – Operations to protect and restore marine and coastal ecosystems, including by limiting the impacts of activities, in application of European directives
B5: SUPPLEMENTARY FORM: Forecast expenditure
B6: This annex must include the amounts entered in Annex 1 for the lead applicant and partners
A9: Applicant details
A10: Surname/First name or company name
A12: Operation details
A13: Operation title
A15: Lead applicant | B15: Tangible and intangible investment expenditure – excluding VAT | C15: Tangible and intangible investment expenditure – including VAT | D15: Direct staff costs using unit costs | E15: Indirect costs related to the operation (costs calculated using a prorated flat rate) | F15: Travel expenses excluding air tickets (flat rate – 6.3% of direct staff costs related to the operation) | G15: OR/UP and international travel expenses (actual costs – for travel between mainland France and Corsica, the French overseas territories or international destinations) | H15: TOTAL
A16: LEAD APPLICANT | B16: =PORTEUR!G58 | C16: =PORTEUR!H58 | D16: =PORTEUR!G103 | E16: =PORTEUR!E107 | F16: =PORTEUR!E111 | G16: ='ANNEXE BIS'!E157+PORTEUR!F157 | H16: =SUM(B16:G16)
A17: PARTNER 1 | B17: ='PARTENAIRE 1'!G58 | C17: ='PARTENAIRE 1'!H58 | D17: ='PARTENAIRE 1'!G103 | E17: ='PARTENAIRE 1'!E107 | F17: ='PARTENAIRE 1'!E111 | G17: ='PARTENAIRE 1'!F157 | H17: =SUM(B17:G17)
A18: PARTNER 2 | B18: ='PARTENAIRE 2'!$G$58 | C18: ='PARTENAIRE 2'!$H$58 | D18: ='PARTENAIRE 2'!$G$103 | E18: ='PARTENAIRE 2'!$E$107 | F18: ='PARTENAIRE 2'!$E$111 | G18: ='PARTENAIRE 2'!$E$157+'PARTENAIRE 2'!$F$157 | H18: =SUM(B18:G18)
A19: PARTNER 3 | B19: ='PARTENAIRE 3'!$G$58 | C19: ='PARTENAIRE 3'!$H$58 | D19: ='PARTENAIRE 3'!$G$103 | E19: ='PARTENAIRE 3'!$E$107 | F19: ='PARTENAIRE 3'!$E$111 | G19: ='PARTENAIRE 3'!$E$157+'PARTENAIRE 3'!$F$157 | H19: =SUM(B19:G19)
A20: PARTNER 4 | B20: ='PARTENAIRE 4'!$G$58 | C20: ='PARTENAIRE 4'!$H$58 | D20: ='PARTENAIRE 4'!$G$103 | E20: ='PARTENAIRE 4'!$E$107 | F20: ='PARTENAIRE 4'!$E$111 | G20: ='PARTENAIRE 4'!$E$157+'PARTENAIRE 4'!$F$157 | H20: =SUM(B20:G20)
A21: PARTNER 5 | B21: ='PARTENAIRE 5'!G58 | C21: ='PARTENAIRE 5'!H58 | D21: ='PARTENAIRE 5'!G103 | E21: ='PARTENAIRE 5'!E107 | F21: ='PARTENAIRE 5'!E111 | G21: ='PARTENAIRE 5'!E157+'PARTENAIRE 5'!F157 | H21: =SUM(B21:G21)
A22: GRAND TOTAL | B22: =SUM(B16:B21) | C22: =SUM(C16:C21) | D22: =SUM(D16:D21) | E22: =SUM(E16:E21) | F22: =SUM(F16:F21) | G22: =SUM(G16:G21) | H22: =SUM(H16:H21)
